BEGIN:VCALENDAR
VERSION:2.0
PRODID:-//wp-events-plugin.com//7.2.3.1//EN
BEGIN:VEVENT
UID:235@hubertus-grafenwoehr.de
DTSTART:20250413T140000Z
DTEND:20250413T170000Z
DTSTAMP:20241129T092310Z
URL:https://hubertus-grafenwoehr.de/events/aufsicht-boehm-boehm-3/
SUMMARY:Aufsicht: Böhm / Böhm
DESCRIPTION:
END:VEVENT
END:VCALENDAR