BEGIN:VCALENDAR
VERSION:2.0
PRODID:-//wp-events-plugin.com//7.2.3.1//EN
BEGIN:VEVENT
UID:154@hubertus-grafenwoehr.de
DTSTART:20240810T130000Z
DTEND:20240810T170000Z
DTSTAMP:20231124T101418Z
URL:https://hubertus-grafenwoehr.de/events/aufsicht-ernstberger-mueller-4/
SUMMARY:Aufsicht: Ernstberger / Müller
DESCRIPTION:
END:VEVENT
END:VCALENDAR