BEGIN:VCALENDAR
VERSION:2.0
PRODID:-//wp-events-plugin.com//7.2.3.1//EN
BEGIN:VEVENT
UID:51@hubertus-grafenwoehr.de
DTSTART;VALUE=DATE:20230902
DTEND;VALUE=DATE:20230903
DTSTAMP:20230829T165352Z
URL:https://hubertus-grafenwoehr.de/events/aufsicht-koebele-poellath-2/
SUMMARY:Schießanlage geschlossen!
DESCRIPTION:
END:VEVENT
END:VCALENDAR