BEGIN:VCALENDAR
VERSION:2.0
PRODID:-//wp-events-plugin.com//7.2.3.1//EN
BEGIN:VEVENT
UID:88@hubertus-grafenwoehr.de
DTSTART:20230805T130000Z
DTEND:20230805T170000Z
DTSTAMP:20230531T132639Z
URL:https://hubertus-grafenwoehr.de/events/aufsicht-kopp-kopp/
SUMMARY:Aufsicht: Kopp / Kopp
DESCRIPTION:
END:VEVENT
END:VCALENDAR