BEGIN:VCALENDAR
VERSION:2.0
PRODID:-//wp-events-plugin.com//7.2.3.1//EN
BEGIN:VEVENT
UID:181@hubertus-grafenwoehr.de
DTSTART:20241103T140000Z
DTEND:20241103T170000Z
DTSTAMP:20231124T102933Z
URL:https://hubertus-grafenwoehr.de/events/aufsicht-meierhoefer-poellath-3
 /
SUMMARY:Aufsicht: Meierhöfer / Pöllath
DESCRIPTION:
END:VEVENT
END:VCALENDAR