BEGIN:VCALENDAR
VERSION:2.0
PRODID:-//wp-events-plugin.com//7.2.3.1//EN
BEGIN:VEVENT
UID:211@hubertus-grafenwoehr.de
DTSTART:20250126T130000Z
DTEND:20250126T170000Z
DTSTAMP:20241129T075847Z
URL:https://hubertus-grafenwoehr.de/events/aufsicht-meiler-schoenmann-4/
SUMMARY:Aufsicht: Meiler / Schönmann
DESCRIPTION:
END:VEVENT
END:VCALENDAR