BEGIN:VCALENDAR
VERSION:2.0
PRODID:-//wp-events-plugin.com//7.2.3.1//EN
BEGIN:VEVENT
UID:320@hubertus-grafenwoehr.de
DTSTART:20260131T130000Z
DTEND:20260131T170000Z
DTSTAMP:20260126T070640Z
URL:https://hubertus-grafenwoehr.de/events/beyer-zeitzer-2/
SUMMARY:Beyer / Zeitzer | BJV WEN/NEW (09:00 - 12:00 Uhr)
DESCRIPTION:
END:VEVENT
END:VCALENDAR