BEGIN:VCALENDAR
VERSION:2.0
PRODID:-//wp-events-plugin.com//7.2.3.1//EN
BEGIN:VEVENT
UID:119@hubertus-grafenwoehr.de
DTSTART;VALUE=DATE:20240414
DTEND;VALUE=DATE:20240415
DTSTAMP:20240208T145152Z
URL:https://hubertus-grafenwoehr.de/events/bezirksmeisterschaft-ordonnanz-
 dsb-300m/
SUMMARY:Bezirksmeisterschaft: Ordonnanz DSB + 300m
DESCRIPTION:
END:VEVENT
END:VCALENDAR