BEGIN:VCALENDAR
VERSION:2.0
PRODID:-//wp-events-plugin.com//7.2.3.1//EN
BEGIN:VEVENT
UID:144@hubertus-grafenwoehr.de
DTSTART;VALUE=DATE:20240706
DTEND;VALUE=DATE:20240707
DTSTAMP:20231124T100807Z
URL:https://hubertus-grafenwoehr.de/events/sg-nuernberg-nord-kein-allgemei
 ner-schiessbetrieb-11/
SUMMARY:SG Nürnberg Nord - Kein allgemeiner Schießbetrieb
DESCRIPTION:
END:VEVENT
END:VCALENDAR