BEGIN:VCALENDAR
VERSION:2.0
PRODID:-//wp-events-plugin.com//7.2.3.1//EN
BEGIN:VEVENT
UID:190@hubertus-grafenwoehr.de
DTSTART;VALUE=DATE:20241206
DTEND;VALUE=DATE:20241207
DTSTAMP:20231124T103408Z
URL:https://hubertus-grafenwoehr.de/events/weihnachtsfeier-mit-gaudischies
 sen-2/
SUMMARY:Weihnachtsfeier mit Gaudischießen
DESCRIPTION:
END:VEVENT
END:VCALENDAR